BEGIN:VCALENDAR
VERSION:2.0
PRODID:SchoolNow
CALSCALE:GREGORIAN
BEGIN:VEVENT
UID:2599cc8a-711e-11ef-8b47-0e6e046549ed
DTSTAMP:20241210T153820Z
SUMMARY:Infrastructure/Asset Management Committee CDD Board Workshop - Dec.
  2024
LOCATION:Bobcat Trail Community Center located at 1352 Bobcat Trail Bouleva
 rd\; North Port\, Florida
URL;VALUE=URI:https://www.bobcatcdd.com/calendar/6586394/infrastructure-ass
 et-management-committee-cdd-board-workshop-aug-2024-clone-clone-clone-clon
 e
DTSTART:20241219T200000Z
DTEND:20241219T210000Z
ATTACH;FILENAME=2024-12-19 - Bobcat Trail CDD - BOS Workshop Agenda.pdf;FMT
 TYPE=application/pdf:https://campussuite-storage.s3.amazonaws.com/prod/155
 9156/d8f84a34-9cfb-11ed-bef1-0e5f8f2abb3f/2889191/a3b35ada-b70c-11ef-a84c-
 0a58a9feac02/file/2024-12-19 - Bobcat Trail CDD - BOS Workshop Agenda.pdf
END:VEVENT
END:VCALENDAR
