BEGIN:VCALENDAR
VERSION:2.0
PRODID:SchoolNow
CALSCALE:GREGORIAN
BEGIN:VEVENT
UID:d4656026-57ed-11ee-874e-0a58a9feac02
DTSTAMP:20240815T165015Z
SUMMARY:Infrastructure/Asset Management Committee CDD Board Workshop - Aug.
  2024
LOCATION:Bobcat Trail Community Center located at 1352 Bobcat Trail Bouleva
 rd\; North Port\, Florida
URL;VALUE=URI:https://www.bobcatcdd.com/calendar/4766727/infrastructure-ass
 et-management-committee-cdd-board-workshop-aug-2024
DTSTART:20240815T190000Z
DTEND:20240815T200000Z
ATTACH;FILENAME=2024-08-15 Bobcat Trail CDD.pdf;FMTTYPE=application/pdf:htt
 ps://campussuite-storage.s3.amazonaws.com/prod/1559156/d8f84a34-9cfb-11ed-
 bef1-0e5f8f2abb3f/2830202/58de47a0-5b26-11ef-abda-0afff7536ca1/file/2024-0
 8-15 Bobcat Trail CDD.pdf
END:VEVENT
END:VCALENDAR
